BEGIN:VCALENDAR
VERSION:2.0
PRODID:-//eventon.com NONSGML v1.0//EN
CALSCALE:GREGORIAN
METHOD:PUBLISH
BEGIN:VEVENT
UID:69e7f1eae7ac1
DTSTAMP:20260421T215346Z
DTSTART:20231202T193000Z
DTEND:20231202T210000Z
LOCATION:Sanctuaire Notre-Dame de Montligeon 26 Rue Principale CS40011
SUMMARY:Veillée pour la vie
DESCRIPTION:20h30 &#8211; Veillée de prière (basilique).\nhttps://montlig
 eon.org/events/veillee-pour-la-vie-5/
URL:https://montligeon.org/events/veillee-pour-la-vie-5/
END:VEVENT
END:VCALENDAR