BEGIN:VCALENDAR
VERSION:2.0
PRODID:-//eventon.com NONSGML v1.0//EN
CALSCALE:GREGORIAN
METHOD:PUBLISH
BEGIN:VEVENT
UID:69e4fe5371d81
DTSTAMP:20260419T160955Z
DTSTART:20231230T103000Z
DTEND:20240101T130000Z
LOCATION:Sanctuaire Notre-Dame de Montligeon 26 Rue Principale CS40011
SUMMARY:Nouvel an au sanctuaire
DESCRIPTION:30 décembre 11h30 &#8211; Messe (chapelle de la Résurrection)
  12h30 &#8211; Repas 15h00 &#8211; Présentation du sanctuaire 15h30-17h30 
 &#8211; (libre) Confessions 17h45 (libre) Vêpres 19h30 &#8211; Dîner 20h3
 0 &#8211; Soirée détente 31 décembre 09h00 &#8211; (libre) Laudes (basil
 ique) 9h30 Temps de prière et de préparation spirituelle 11h00 &#8211; Me
 sse (basilique)[..]\nhttps://montligeon.org/events/nouvel-an-au-sanctuaire-
 2/
URL:https://montligeon.org/events/nouvel-an-au-sanctuaire-2/
END:VEVENT
END:VCALENDAR