BEGIN:VCALENDAR
VERSION:2.0
PRODID:-//eventon.com NONSGML v1.0//EN
CALSCALE:GREGORIAN
METHOD:PUBLISH
BEGIN:VEVENT
UID:69e529de4d1ef
DTSTAMP:20260419T191542Z
DTSTART:20240207T180000Z
DTEND:20240209T150000Z
LOCATION:Sanctuaire Notre-Dame de Montligeon 26 Rue Principale CS40011
SUMMARY:Je me prépare à la mort
DESCRIPTION:Dominique\,  retraite &#8220;je me prépare à la mort&#8221;. 
 Agenda 20244-DAP-404 Mercredi19h00 &#8211; Accueil et dîner20h30 &#8211; P
 résentation du sanctuaire et prière du soir Jeudi07h30 &#8211; (libre) La
 udes (chapelle de la Résurrection)08h00-9h30 &#8211; Petit-déjeuner09h30 
 &#8211; Enseignement : La vieillesse et la maladie10h30 &#8211; Ateliers en
  groupes11h30 &#8211; Messe (chapelle de la[..]\nhttps://montligeon.org/it/
 events/je-me-prepare-a-la-mort/
URL:https://montligeon.org/it/events/je-me-prepare-a-la-mort/
END:VEVENT
END:VCALENDAR