BEGIN:VCALENDAR
VERSION:2.0
PRODID:-//eventon.com NONSGML v1.0//EN
CALSCALE:GREGORIAN
METHOD:PUBLISH
BEGIN:VEVENT
UID:69e551a292971
DTSTAMP:20260419T220522Z
DTSTART:20260508T170000Z
DTEND:20260510T140000Z
LOCATION:Sanctuaire Notre-Dame de Montligeon 26 Rue Principale CS40011
SUMMARY:Halte réconfort deuil
DESCRIPTION:Agenda 2026 12-DTL-525 Vendredi 19h00 &#8211; Accueil et dîner
  20h30 &#8211; Présentation du sanctuaire et prière du soir Samedi 07h30 
 &#8211; (libre) Laudes (basilique) 08h00-9h15 &#8211; Petit-déjeuner 09h30
  &#8211; Enseignement : Les étapes du deuil 11h30 &#8211; Messe (basilique
 ) 12h30 &#8211; Déjeuner 14h30 &#8211; Enseignement : L&#8217;espérance d
 e la vie[..]\nhttps://montligeon.org/it/events/halte-reconfort-deuil-3/
URL:https://montligeon.org/it/events/halte-reconfort-deuil-3/
END:VEVENT
END:VCALENDAR