BEGIN:VCALENDAR
VERSION:2.0
PRODID:-//eventon.com NONSGML v1.0//EN
CALSCALE:GREGORIAN
METHOD:PUBLISH
BEGIN:VEVENT
UID:69e551d1f0548
DTSTAMP:20260419T220609Z
DTSTART:20260509T080000Z
DTEND:20260510T140000Z
LOCATION:Sanctuaire Notre-Dame de Montligeon 26 Rue Principale CS40011
SUMMARY:Pause mamans
DESCRIPTION:Agenda 202610-DFMA-565 Fille\,  femme\,  épouse et mère Samed
 i10h00 &#8211; Accueil10h15 &#8211; Enseignement11h30 &#8211; Messe (chapel
 le de la Résurrection)12h30 &#8211; Déjeuner14h30 &#8211; Enseignement15h
 30 &#8211; Temps libre confessions (basilique)17h45 &#8211; (libre) Vêpres
  (basilique)18h15 &#8211; Présentation du sanctuaire19h30 &#8211; Dîner20
 h30 &#8211; Soirée détente Dimanche08h00-09h15 &#8211; Petit-déjeuner09h
 00 &#8211; (libre) Laudes (basilique)09h30 &#8211; Enseignement11h00 &#8211
 ;[..]\nhttps://montligeon.org/it/events/pause-mamans-2/
URL:https://montligeon.org/it/events/pause-mamans-2/
END:VEVENT
END:VCALENDAR