BEGIN:VCALENDAR
VERSION:2.0
PRODID:-//eventon.com NONSGML v1.0//EN
CALSCALE:GREGORIAN
METHOD:PUBLISH
BEGIN:VEVENT
UID:69e553417d166
DTSTAMP:20260419T221217Z
DTSTART:20260514T090000Z
DTEND:20260517T140000Z
LOCATION:Sanctuaire Notre-Dame de Montligeon 26 Rue Principale CS40011
SUMMARY:Festival de l'Ascension
DESCRIPTION:Agenda 2026 13-DFMA-526 Jeudi 11h00 &#8211; Messe solennelle 14
 h30 &#8211; Chapelet 15h00 &#8211; ConfÃ©rence : &#8221; L&#8217;Ascension 
 &#8221; 15h45 &#8211; VÃªpres et salut du Saint Sacrement 18h00 &#8211; PrÃ
 ©sentation du sanctuaire 20h30 &#8211; SoirÃ©e dÃ©tente Vendredi 07h30 &#82
 11; Laudes 08h00 &#8211; Messe 10h00 &#8211; ConfÃ©rence 09h30-12h15 : Acti
 vitÃ©s pour les[..]\nhttps://montligeon.org/it/events/festival-de-lascensio
 n-3/
URL:https://montligeon.org/it/events/festival-de-lascension-3/
END:VEVENT
END:VCALENDAR