BEGIN:VCALENDAR
VERSION:2.0
PRODID:-//eventon.com NONSGML v1.0//EN
CALSCALE:GREGORIAN
METHOD:PUBLISH
BEGIN:VEVENT
UID:69e55305c1b67
DTSTAMP:20260419T221117Z
DTSTART:20260514T090000Z
DTEND:20260514T150000Z
LOCATION:Sanctuaire Notre-Dame de Montligeon 26 Rue Principale CS40011
SUMMARY:Pèlerinage de l'Ascension
DESCRIPTION:Agenda 2026 14-DPPL-527 11h00 &#8211; Messe 12h30 &#8211; Déje
 uner au sanctuaire (sur réservation) 14h30 &#8211; Chapelet 15h00 &#8211; 
 Enseignement sur l&#8217;Ascension 15h45 &#8211; Vêpres et Salut du Saint-
 Sacrement 16h30 &#8211; Fin\nhttps://montligeon.org/it/events/pelerinage-de
 -lascension/
URL:https://montligeon.org/it/events/pelerinage-de-lascension/
END:VEVENT
END:VCALENDAR