BEGIN:VCALENDAR
VERSION:2.0
PRODID:-//eventon.com NONSGML v1.0//EN
CALSCALE:GREGORIAN
METHOD:PUBLISH
BEGIN:VEVENT
UID:69e554bd4cb45
DTSTAMP:20260419T221837Z
DTSTART:20260530T070000Z
DTEND:20260530T170000Z
LOCATION:Sanctuaire Notre-Dame de Montligeon 26 Rue Principale CS40011
SUMMARY:Marche des mères de famille
DESCRIPTION:Agenda 202615-DFMA-528 Vivez dans l&#8217;action de grâce 09 h
  15 &#8211; Rendez-vous à l&#8217;église d’Autheuil &#8211; 61190\,  To
 urouvre au Perche.09 h 45 &#8211; Messe d&#8217;envoi09h45 &#8211; Café pu
 is départ de la marche. Tout au long de la journée : enseignements autour
  du thème\,  méditations\,  échanges\,  confession possible.12 h 00 &#82
 11;[..]\nhttps://montligeon.org/it/events/marche-des-meres-de-famille/
URL:https://montligeon.org/it/events/marche-des-meres-de-famille/
END:VEVENT
END:VCALENDAR