BEGIN:VCALENDAR
VERSION:2.0
PRODID:-//eventon.com NONSGML v1.0//EN
CALSCALE:GREGORIAN
METHOD:PUBLISH
BEGIN:VEVENT
UID:69e5548f72225
DTSTAMP:20260419T221751Z
DTSTART:20260531T090000Z
DTEND:20260531T140000Z
LOCATION:Sanctuaire Notre-Dame de Montligeon 26 Rue Principale CS40011
SUMMARY:Messe pour les mères de famille défuntes
DESCRIPTION:Agenda 202616-DPD-529 11h00 &#8211; Messe à la basilique12h30 
 &#8211; Déjeuner au sanctuaire (sur réservation)15h00 &#8211; Vêpres et 
 salut du salut du Saint Sacrement\nhttps://montligeon.org/it/events/messe-p
 our-les-meres-de-famille-defuntes/
URL:https://montligeon.org/it/events/messe-pour-les-meres-de-famille-defuntes/
END:VEVENT
END:VCALENDAR