BEGIN:VCALENDAR
VERSION:2.0
PRODID:-//eventon.com NONSGML v1.0//EN
CALSCALE:GREGORIAN
METHOD:PUBLISH
BEGIN:VEVENT
UID:69e5532d5ece9
DTSTAMP:20260419T221157Z
DTSTART:20260603T170000Z
DTEND:20260605T130000Z
LOCATION:Sanctuaire Notre-Dame de Montligeon 26 Rue Principale CS40011
SUMMARY:Halte réconfort deuil
DESCRIPTION:Agenda 2026 17-DTL-563 Mercredi 19h00 &#8211; Accueil et dîner
  20h30 &#8211; Présentation du sanctuaire et prière du soir Jeudi 07h30 &
 #8211; (libre) Laudes (basilique) 08h00-9h15 &#8211; Petit-déjeuner 09h30 
 &#8211; Enseignement : Les étapes du deuil 11h30 &#8211; Messe (basilique)
  12h30 &#8211; Déjeuner 14h30 &#8211; Enseignement : L&#8217;espérance de
  la vie[..]\nhttps://montligeon.org/it/events/halte-reconfort-deuil-4/
URL:https://montligeon.org/it/events/halte-reconfort-deuil-4/
END:VEVENT
END:VCALENDAR