BEGIN:VCALENDAR
VERSION:2.0
PRODID:-//eventon.com NONSGML v1.0//EN
CALSCALE:GREGORIAN
METHOD:PUBLISH
BEGIN:VEVENT
UID:69e5545760912
DTSTAMP:20260419T221655Z
DTSTART:20260607T090000Z
DTEND:20260607T140000Z
LOCATION:Sanctuaire Notre-Dame de Montligeon 26 Rue Principale CS40011
SUMMARY:Pèlerinage de la Fête-Dieu
DESCRIPTION:Agenda 2026 19-DPPL-531 9h00 &#8211; Laudes 9h30 &#8211; prépa
 ration à la messe et adoration 11h00 &#8211; Messe (basilique) 12h15 &#821
 1; Procession de la basilique à l&#8217;église paroissiale 12h30 &#8211; 
 Reposoir à l&#8217;église paroissiale 13h00 &#8211; Repas au sanctuaire (
 sur réservation) 14h30 &#8211; Chapelet 15h &#8211; Vêpres et Salut du Sa
 int-Sacrement[..]\nhttps://montligeon.org/it/events/pelerinage-de-la-fete-d
 ieu-4/
URL:https://montligeon.org/it/events/pelerinage-de-la-fete-dieu-4/
END:VEVENT
END:VCALENDAR