BEGIN:VCALENDAR
VERSION:2.0
PRODID:-//eventon.com NONSGML v1.0//EN
CALSCALE:GREGORIAN
METHOD:PUBLISH
BEGIN:VEVENT
UID:69e551d5e25de
DTSTAMP:20260419T220613Z
DTSTART:20260808T140000Z
DTEND:20260814T070000Z
LOCATION:Sanctuaire Notre-Dame de Montligeon 26 Rue Principale CS40011
SUMMARY:Session familles
DESCRIPTION:Agenda 2026 24-DTL-536 Samedi 16h00-18h00 &#8211; Arrivée 19h1
 5 &#8211; Dîner 20h15 &#8211; Accueil et présentation Dimanche 08h00-08h4
 5 &#8211; Petit-déjeuner 9h00 &#8211; Laudes 9h30 &#8211; Procession à st
  Joseph en famille 11h00 &#8211; Messe 12h30 : Déjeuner 13h30-18h00 &#8211
 ; Garderie 14h30 &#8211; (libre) Chapelet 15h00 &#8211; Vêpres et adoratio
 n 16h00 &#8211;[..]\nhttps://montligeon.org/it/events/session-familles-2/
URL:https://montligeon.org/it/events/session-familles-2/
END:VEVENT
END:VCALENDAR