BEGIN:VCALENDAR
VERSION:2.0
PRODID:-//eventon.com NONSGML v1.0//EN
CALSCALE:GREGORIAN
METHOD:PUBLISH
BEGIN:VEVENT
UID:69e5536e943df
DTSTAMP:20260419T221302Z
DTSTART:20260815T140000Z
DTEND:20260821T070000Z
LOCATION:Sanctuaire Notre-Dame de Montligeon 26 Rue Principale CS40011
SUMMARY:Session familles
DESCRIPTION:Agenda 2026 25-DTL-537 Samedi 16h00-18h00 &#8211; Arrivée 19h1
 5 &#8211; Dîner 20h15 &#8211; Accueil et présentation Dimanche 08h00-08h4
 5 &#8211; Petit-déjeuner 9h00 &#8211; Laudes 9h30 &#8211; Procession à st
  Joseph en famille 11h00 &#8211; Messe 12h30 &#8211; Déjeuner 13h30-18h00 
 &#8211; Garderie 14h30 &#8211; (libre) Chapelet 15h00 &#8211; Vêpres et ad
 oration 16h00 &#8211;[..]\nhttps://montligeon.org/it/events/session-famille
 s-3/
URL:https://montligeon.org/it/events/session-familles-3/
END:VEVENT
END:VCALENDAR